BEGIN:VCALENDAR
VERSION:2.0
PRODID:-//The ARC - ECPv6.11.2.1//NONSGML v1.0//EN
CALSCALE:GREGORIAN
METHOD:PUBLISH
X-WR-CALNAME:The ARC
X-ORIGINAL-URL:https://www.thearcenter.com
X-WR-CALDESC:Events for The ARC
REFRESH-INTERVAL;VALUE=DURATION:PT1H
X-Robots-Tag:noindex
X-PUBLISHED-TTL:PT1H
BEGIN:VTIMEZONE
TZID:UTC
BEGIN:STANDARD
TZOFFSETFROM:+0000
TZOFFSETTO:+0000
TZNAME:UTC
DTSTART:20190101T000000
END:STANDARD
END:VTIMEZONE
BEGIN:VEVENT
DTSTART;TZID=UTC:20190710T193000
DTEND;TZID=UTC:20190710T210000
DTSTAMP:20260419T071241
CREATED:20170629T210059Z
LAST-MODIFIED:20170629T210059Z
UID:26367-1562787000-1562792400@www.thearcenter.com
SUMMARY:All Church Time
DESCRIPTION:Each member or youth of the congregation would be encouraged to invite one or more guests. A specific sport would be identified and featured.
URL:https://www.thearcenter.com/calendar/all-church-times-2019-07-10/
LOCATION:The ARC\, 902 Danville Blvd\, Alamo\, CA\, 94507\, United States
CATEGORIES:Adult,Youth
ATTACH;FMTTYPE=image/jpeg:https://www.thearcenter.com/wp-content/uploads/2017/03/bigstock-Basketball-court-Sport-arena-108580907.jpg
END:VEVENT
BEGIN:VEVENT
DTSTART;TZID=UTC:20190707T150000
DTEND;TZID=UTC:20190707T170000
DTSTAMP:20260419T071241
CREATED:20170629T210059Z
LAST-MODIFIED:20181113T004759Z
UID:26317-1562511600-1562518800@www.thearcenter.com
SUMMARY:All Church Time
DESCRIPTION:Each member or youth of the congregation would be encouraged to invite one or more guests. A specific sport would be identified and featured.
URL:https://www.thearcenter.com/calendar/all-church-times-2019-07-07/
LOCATION:The ARC\, 902 Danville Blvd\, Alamo\, CA\, 94507\, United States
CATEGORIES:Adult,Youth
ATTACH;FMTTYPE=image/jpeg:https://www.thearcenter.com/wp-content/uploads/2017/03/bigstock-Basketball-court-Sport-arena-108580907.jpg
END:VEVENT
BEGIN:VEVENT
DTSTART;TZID=UTC:20190703T193000
DTEND;TZID=UTC:20190703T210000
DTSTAMP:20260419T071241
CREATED:20170629T210059Z
LAST-MODIFIED:20170629T210059Z
UID:26366-1562182200-1562187600@www.thearcenter.com
SUMMARY:All Church Time
DESCRIPTION:Each member or youth of the congregation would be encouraged to invite one or more guests. A specific sport would be identified and featured.
URL:https://www.thearcenter.com/calendar/all-church-times-2019-07-03/
LOCATION:The ARC\, 902 Danville Blvd\, Alamo\, CA\, 94507\, United States
CATEGORIES:Adult,Youth
ATTACH;FMTTYPE=image/jpeg:https://www.thearcenter.com/wp-content/uploads/2017/03/bigstock-Basketball-court-Sport-arena-108580907.jpg
END:VEVENT
BEGIN:VEVENT
DTSTART;TZID=UTC:20190630T150000
DTEND;TZID=UTC:20190630T170000
DTSTAMP:20260419T071241
CREATED:20170629T210059Z
LAST-MODIFIED:20181113T004756Z
UID:26316-1561906800-1561914000@www.thearcenter.com
SUMMARY:All Church Time
DESCRIPTION:Each member or youth of the congregation would be encouraged to invite one or more guests. A specific sport would be identified and featured.
URL:https://www.thearcenter.com/calendar/all-church-times-2019-06-30/
LOCATION:The ARC\, 902 Danville Blvd\, Alamo\, CA\, 94507\, United States
CATEGORIES:Adult,Youth
ATTACH;FMTTYPE=image/jpeg:https://www.thearcenter.com/wp-content/uploads/2017/03/bigstock-Basketball-court-Sport-arena-108580907.jpg
END:VEVENT
BEGIN:VEVENT
DTSTART;TZID=UTC:20190626T193000
DTEND;TZID=UTC:20190626T210000
DTSTAMP:20260419T071241
CREATED:20170629T210059Z
LAST-MODIFIED:20170629T210059Z
UID:26365-1561577400-1561582800@www.thearcenter.com
SUMMARY:All Church Time
DESCRIPTION:Each member or youth of the congregation would be encouraged to invite one or more guests. A specific sport would be identified and featured.
URL:https://www.thearcenter.com/calendar/all-church-times-2019-06-26/
LOCATION:The ARC\, 902 Danville Blvd\, Alamo\, CA\, 94507\, United States
CATEGORIES:Adult,Youth
ATTACH;FMTTYPE=image/jpeg:https://www.thearcenter.com/wp-content/uploads/2017/03/bigstock-Basketball-court-Sport-arena-108580907.jpg
END:VEVENT
BEGIN:VEVENT
DTSTART;TZID=UTC:20190623T150000
DTEND;TZID=UTC:20190623T170000
DTSTAMP:20260419T071241
CREATED:20170629T210059Z
LAST-MODIFIED:20181113T004756Z
UID:26315-1561302000-1561309200@www.thearcenter.com
SUMMARY:All Church Time
DESCRIPTION:Each member or youth of the congregation would be encouraged to invite one or more guests. A specific sport would be identified and featured.
URL:https://www.thearcenter.com/calendar/all-church-times-2019-06-23/
LOCATION:The ARC\, 902 Danville Blvd\, Alamo\, CA\, 94507\, United States
CATEGORIES:Adult,Youth
ATTACH;FMTTYPE=image/jpeg:https://www.thearcenter.com/wp-content/uploads/2017/03/bigstock-Basketball-court-Sport-arena-108580907.jpg
END:VEVENT
BEGIN:VEVENT
DTSTART;TZID=UTC:20190619T193000
DTEND;TZID=UTC:20190619T210000
DTSTAMP:20260419T071241
CREATED:20170629T210059Z
LAST-MODIFIED:20170629T210059Z
UID:26364-1560972600-1560978000@www.thearcenter.com
SUMMARY:All Church Time
DESCRIPTION:Each member or youth of the congregation would be encouraged to invite one or more guests. A specific sport would be identified and featured.
URL:https://www.thearcenter.com/calendar/all-church-times-2019-06-19/
LOCATION:The ARC\, 902 Danville Blvd\, Alamo\, CA\, 94507\, United States
CATEGORIES:Adult,Youth
ATTACH;FMTTYPE=image/jpeg:https://www.thearcenter.com/wp-content/uploads/2017/03/bigstock-Basketball-court-Sport-arena-108580907.jpg
END:VEVENT
BEGIN:VEVENT
DTSTART;TZID=UTC:20190616T150000
DTEND;TZID=UTC:20190616T170000
DTSTAMP:20260419T071241
CREATED:20170629T210059Z
LAST-MODIFIED:20181113T004756Z
UID:26314-1560697200-1560704400@www.thearcenter.com
SUMMARY:All Church Time
DESCRIPTION:Each member or youth of the congregation would be encouraged to invite one or more guests. A specific sport would be identified and featured.
URL:https://www.thearcenter.com/calendar/all-church-times-2019-06-16/
LOCATION:The ARC\, 902 Danville Blvd\, Alamo\, CA\, 94507\, United States
CATEGORIES:Adult,Youth
ATTACH;FMTTYPE=image/jpeg:https://www.thearcenter.com/wp-content/uploads/2017/03/bigstock-Basketball-court-Sport-arena-108580907.jpg
END:VEVENT
BEGIN:VEVENT
DTSTART;TZID=UTC:20190612T193000
DTEND;TZID=UTC:20190612T210000
DTSTAMP:20260419T071241
CREATED:20170629T210059Z
LAST-MODIFIED:20170629T210059Z
UID:26363-1560367800-1560373200@www.thearcenter.com
SUMMARY:All Church Time
DESCRIPTION:Each member or youth of the congregation would be encouraged to invite one or more guests. A specific sport would be identified and featured.
URL:https://www.thearcenter.com/calendar/all-church-times-2019-06-12/
LOCATION:The ARC\, 902 Danville Blvd\, Alamo\, CA\, 94507\, United States
CATEGORIES:Adult,Youth
ATTACH;FMTTYPE=image/jpeg:https://www.thearcenter.com/wp-content/uploads/2017/03/bigstock-Basketball-court-Sport-arena-108580907.jpg
END:VEVENT
BEGIN:VEVENT
DTSTART;TZID=UTC:20190609T150000
DTEND;TZID=UTC:20190609T170000
DTSTAMP:20260419T071241
CREATED:20170629T210059Z
LAST-MODIFIED:20181113T004755Z
UID:26313-1560092400-1560099600@www.thearcenter.com
SUMMARY:All Church Time
DESCRIPTION:Each member or youth of the congregation would be encouraged to invite one or more guests. A specific sport would be identified and featured.
URL:https://www.thearcenter.com/calendar/all-church-times-2019-06-09/
LOCATION:The ARC\, 902 Danville Blvd\, Alamo\, CA\, 94507\, United States
CATEGORIES:Adult,Youth
ATTACH;FMTTYPE=image/jpeg:https://www.thearcenter.com/wp-content/uploads/2017/03/bigstock-Basketball-court-Sport-arena-108580907.jpg
END:VEVENT
BEGIN:VEVENT
DTSTART;TZID=UTC:20190605T193000
DTEND;TZID=UTC:20190605T210000
DTSTAMP:20260419T071241
CREATED:20170629T210059Z
LAST-MODIFIED:20170629T210059Z
UID:26362-1559763000-1559768400@www.thearcenter.com
SUMMARY:All Church Time
DESCRIPTION:Each member or youth of the congregation would be encouraged to invite one or more guests. A specific sport would be identified and featured.
URL:https://www.thearcenter.com/calendar/all-church-times-2019-06-05/
LOCATION:The ARC\, 902 Danville Blvd\, Alamo\, CA\, 94507\, United States
CATEGORIES:Adult,Youth
ATTACH;FMTTYPE=image/jpeg:https://www.thearcenter.com/wp-content/uploads/2017/03/bigstock-Basketball-court-Sport-arena-108580907.jpg
END:VEVENT
BEGIN:VEVENT
DTSTART;TZID=UTC:20190602T150000
DTEND;TZID=UTC:20190602T170000
DTSTAMP:20260419T071241
CREATED:20170629T210059Z
LAST-MODIFIED:20181113T004755Z
UID:26312-1559487600-1559494800@www.thearcenter.com
SUMMARY:All Church Time
DESCRIPTION:Each member or youth of the congregation would be encouraged to invite one or more guests. A specific sport would be identified and featured.
URL:https://www.thearcenter.com/calendar/all-church-times-2019-06-02/
LOCATION:The ARC\, 902 Danville Blvd\, Alamo\, CA\, 94507\, United States
CATEGORIES:Adult,Youth
ATTACH;FMTTYPE=image/jpeg:https://www.thearcenter.com/wp-content/uploads/2017/03/bigstock-Basketball-court-Sport-arena-108580907.jpg
END:VEVENT
BEGIN:VEVENT
DTSTART;TZID=UTC:20190529T193000
DTEND;TZID=UTC:20190529T210000
DTSTAMP:20260419T071241
CREATED:20170629T210059Z
LAST-MODIFIED:20170629T210059Z
UID:26361-1559158200-1559163600@www.thearcenter.com
SUMMARY:All Church Time
DESCRIPTION:Each member or youth of the congregation would be encouraged to invite one or more guests. A specific sport would be identified and featured.
URL:https://www.thearcenter.com/calendar/all-church-times-2019-05-29/
LOCATION:The ARC\, 902 Danville Blvd\, Alamo\, CA\, 94507\, United States
CATEGORIES:Adult,Youth
ATTACH;FMTTYPE=image/jpeg:https://www.thearcenter.com/wp-content/uploads/2017/03/bigstock-Basketball-court-Sport-arena-108580907.jpg
END:VEVENT
BEGIN:VEVENT
DTSTART;TZID=UTC:20190526T150000
DTEND;TZID=UTC:20190526T170000
DTSTAMP:20260419T071241
CREATED:20170629T210059Z
LAST-MODIFIED:20181113T004755Z
UID:26311-1558882800-1558890000@www.thearcenter.com
SUMMARY:All Church Time
DESCRIPTION:Each member or youth of the congregation would be encouraged to invite one or more guests. A specific sport would be identified and featured.
URL:https://www.thearcenter.com/calendar/all-church-times-2019-05-26/
LOCATION:The ARC\, 902 Danville Blvd\, Alamo\, CA\, 94507\, United States
CATEGORIES:Adult,Youth
ATTACH;FMTTYPE=image/jpeg:https://www.thearcenter.com/wp-content/uploads/2017/03/bigstock-Basketball-court-Sport-arena-108580907.jpg
END:VEVENT
BEGIN:VEVENT
DTSTART;TZID=UTC:20190522T193000
DTEND;TZID=UTC:20190522T210000
DTSTAMP:20260419T071241
CREATED:20170629T210059Z
LAST-MODIFIED:20170629T210059Z
UID:26360-1558553400-1558558800@www.thearcenter.com
SUMMARY:All Church Time
DESCRIPTION:Each member or youth of the congregation would be encouraged to invite one or more guests. A specific sport would be identified and featured.
URL:https://www.thearcenter.com/calendar/all-church-times-2019-05-22/
LOCATION:The ARC\, 902 Danville Blvd\, Alamo\, CA\, 94507\, United States
CATEGORIES:Adult,Youth
ATTACH;FMTTYPE=image/jpeg:https://www.thearcenter.com/wp-content/uploads/2017/03/bigstock-Basketball-court-Sport-arena-108580907.jpg
END:VEVENT
BEGIN:VEVENT
DTSTART;TZID=UTC:20190519T150000
DTEND;TZID=UTC:20190519T170000
DTSTAMP:20260419T071241
CREATED:20170629T210059Z
LAST-MODIFIED:20181113T004754Z
UID:26310-1558278000-1558285200@www.thearcenter.com
SUMMARY:All Church Time
DESCRIPTION:Each member or youth of the congregation would be encouraged to invite one or more guests. A specific sport would be identified and featured.
URL:https://www.thearcenter.com/calendar/all-church-times-2019-05-19/
LOCATION:The ARC\, 902 Danville Blvd\, Alamo\, CA\, 94507\, United States
CATEGORIES:Adult,Youth
ATTACH;FMTTYPE=image/jpeg:https://www.thearcenter.com/wp-content/uploads/2017/03/bigstock-Basketball-court-Sport-arena-108580907.jpg
END:VEVENT
BEGIN:VEVENT
DTSTART;TZID=UTC:20190515T193000
DTEND;TZID=UTC:20190515T210000
DTSTAMP:20260419T071241
CREATED:20170629T210059Z
LAST-MODIFIED:20170629T210059Z
UID:26359-1557948600-1557954000@www.thearcenter.com
SUMMARY:All Church Time
DESCRIPTION:Each member or youth of the congregation would be encouraged to invite one or more guests. A specific sport would be identified and featured.
URL:https://www.thearcenter.com/calendar/all-church-times-2019-05-15/
LOCATION:The ARC\, 902 Danville Blvd\, Alamo\, CA\, 94507\, United States
CATEGORIES:Adult,Youth
ATTACH;FMTTYPE=image/jpeg:https://www.thearcenter.com/wp-content/uploads/2017/03/bigstock-Basketball-court-Sport-arena-108580907.jpg
END:VEVENT
BEGIN:VEVENT
DTSTART;TZID=UTC:20190512T150000
DTEND;TZID=UTC:20190512T170000
DTSTAMP:20260419T071241
CREATED:20170629T210059Z
LAST-MODIFIED:20181113T004754Z
UID:26309-1557673200-1557680400@www.thearcenter.com
SUMMARY:All Church Time
DESCRIPTION:Each member or youth of the congregation would be encouraged to invite one or more guests. A specific sport would be identified and featured.
URL:https://www.thearcenter.com/calendar/all-church-times-2019-05-12/
LOCATION:The ARC\, 902 Danville Blvd\, Alamo\, CA\, 94507\, United States
CATEGORIES:Adult,Youth
ATTACH;FMTTYPE=image/jpeg:https://www.thearcenter.com/wp-content/uploads/2017/03/bigstock-Basketball-court-Sport-arena-108580907.jpg
END:VEVENT
BEGIN:VEVENT
DTSTART;TZID=UTC:20190508T193000
DTEND;TZID=UTC:20190508T210000
DTSTAMP:20260419T071241
CREATED:20170629T210059Z
LAST-MODIFIED:20170629T210059Z
UID:26358-1557343800-1557349200@www.thearcenter.com
SUMMARY:All Church Time
DESCRIPTION:Each member or youth of the congregation would be encouraged to invite one or more guests. A specific sport would be identified and featured.
URL:https://www.thearcenter.com/calendar/all-church-times-2019-05-08/
LOCATION:The ARC\, 902 Danville Blvd\, Alamo\, CA\, 94507\, United States
CATEGORIES:Adult,Youth
ATTACH;FMTTYPE=image/jpeg:https://www.thearcenter.com/wp-content/uploads/2017/03/bigstock-Basketball-court-Sport-arena-108580907.jpg
END:VEVENT
BEGIN:VEVENT
DTSTART;TZID=UTC:20190505T150000
DTEND;TZID=UTC:20190505T170000
DTSTAMP:20260419T071241
CREATED:20170629T210059Z
LAST-MODIFIED:20181113T004754Z
UID:26308-1557068400-1557075600@www.thearcenter.com
SUMMARY:All Church Time
DESCRIPTION:Each member or youth of the congregation would be encouraged to invite one or more guests. A specific sport would be identified and featured.
URL:https://www.thearcenter.com/calendar/all-church-times-2019-05-05/
LOCATION:The ARC\, 902 Danville Blvd\, Alamo\, CA\, 94507\, United States
CATEGORIES:Adult,Youth
ATTACH;FMTTYPE=image/jpeg:https://www.thearcenter.com/wp-content/uploads/2017/03/bigstock-Basketball-court-Sport-arena-108580907.jpg
END:VEVENT
BEGIN:VEVENT
DTSTART;TZID=UTC:20190501T193000
DTEND;TZID=UTC:20190501T210000
DTSTAMP:20260419T071241
CREATED:20170629T210059Z
LAST-MODIFIED:20170629T210059Z
UID:26357-1556739000-1556744400@www.thearcenter.com
SUMMARY:All Church Time
DESCRIPTION:Each member or youth of the congregation would be encouraged to invite one or more guests. A specific sport would be identified and featured.
URL:https://www.thearcenter.com/calendar/all-church-times-2019-05-01/
LOCATION:The ARC\, 902 Danville Blvd\, Alamo\, CA\, 94507\, United States
CATEGORIES:Adult,Youth
ATTACH;FMTTYPE=image/jpeg:https://www.thearcenter.com/wp-content/uploads/2017/03/bigstock-Basketball-court-Sport-arena-108580907.jpg
END:VEVENT
BEGIN:VEVENT
DTSTART;TZID=UTC:20190428T150000
DTEND;TZID=UTC:20190428T170000
DTSTAMP:20260419T071241
CREATED:20170629T210059Z
LAST-MODIFIED:20181113T004754Z
UID:26307-1556463600-1556470800@www.thearcenter.com
SUMMARY:All Church Time
DESCRIPTION:Each member or youth of the congregation would be encouraged to invite one or more guests. A specific sport would be identified and featured.
URL:https://www.thearcenter.com/calendar/all-church-times-2019-04-28/
LOCATION:The ARC\, 902 Danville Blvd\, Alamo\, CA\, 94507\, United States
CATEGORIES:Adult,Youth
ATTACH;FMTTYPE=image/jpeg:https://www.thearcenter.com/wp-content/uploads/2017/03/bigstock-Basketball-court-Sport-arena-108580907.jpg
END:VEVENT
BEGIN:VEVENT
DTSTART;TZID=UTC:20190424T193000
DTEND;TZID=UTC:20190424T210000
DTSTAMP:20260419T071241
CREATED:20170629T210059Z
LAST-MODIFIED:20170629T210059Z
UID:26356-1556134200-1556139600@www.thearcenter.com
SUMMARY:All Church Time
DESCRIPTION:Each member or youth of the congregation would be encouraged to invite one or more guests. A specific sport would be identified and featured.
URL:https://www.thearcenter.com/calendar/all-church-times-2019-04-24/
LOCATION:The ARC\, 902 Danville Blvd\, Alamo\, CA\, 94507\, United States
CATEGORIES:Adult,Youth
ATTACH;FMTTYPE=image/jpeg:https://www.thearcenter.com/wp-content/uploads/2017/03/bigstock-Basketball-court-Sport-arena-108580907.jpg
END:VEVENT
BEGIN:VEVENT
DTSTART;TZID=UTC:20190421T150000
DTEND;TZID=UTC:20190421T170000
DTSTAMP:20260419T071241
CREATED:20170629T210059Z
LAST-MODIFIED:20181113T004751Z
UID:26306-1555858800-1555866000@www.thearcenter.com
SUMMARY:All Church Time
DESCRIPTION:Each member or youth of the congregation would be encouraged to invite one or more guests. A specific sport would be identified and featured.
URL:https://www.thearcenter.com/calendar/all-church-times-2019-04-21/
LOCATION:The ARC\, 902 Danville Blvd\, Alamo\, CA\, 94507\, United States
CATEGORIES:Adult,Youth
ATTACH;FMTTYPE=image/jpeg:https://www.thearcenter.com/wp-content/uploads/2017/03/bigstock-Basketball-court-Sport-arena-108580907.jpg
END:VEVENT
BEGIN:VEVENT
DTSTART;TZID=UTC:20190417T193000
DTEND;TZID=UTC:20190417T210000
DTSTAMP:20260419T071241
CREATED:20170629T210059Z
LAST-MODIFIED:20170629T210059Z
UID:26355-1555529400-1555534800@www.thearcenter.com
SUMMARY:All Church Time
DESCRIPTION:Each member or youth of the congregation would be encouraged to invite one or more guests. A specific sport would be identified and featured.
URL:https://www.thearcenter.com/calendar/all-church-times-2019-04-17/
LOCATION:The ARC\, 902 Danville Blvd\, Alamo\, CA\, 94507\, United States
CATEGORIES:Adult,Youth
ATTACH;FMTTYPE=image/jpeg:https://www.thearcenter.com/wp-content/uploads/2017/03/bigstock-Basketball-court-Sport-arena-108580907.jpg
END:VEVENT
BEGIN:VEVENT
DTSTART;TZID=UTC:20190414T150000
DTEND;TZID=UTC:20190414T170000
DTSTAMP:20260419T071241
CREATED:20170629T210059Z
LAST-MODIFIED:20181113T004751Z
UID:26305-1555254000-1555261200@www.thearcenter.com
SUMMARY:All Church Time
DESCRIPTION:Each member or youth of the congregation would be encouraged to invite one or more guests. A specific sport would be identified and featured.
URL:https://www.thearcenter.com/calendar/all-church-times-2019-04-14/
LOCATION:The ARC\, 902 Danville Blvd\, Alamo\, CA\, 94507\, United States
CATEGORIES:Adult,Youth
ATTACH;FMTTYPE=image/jpeg:https://www.thearcenter.com/wp-content/uploads/2017/03/bigstock-Basketball-court-Sport-arena-108580907.jpg
END:VEVENT
BEGIN:VEVENT
DTSTART;TZID=UTC:20190410T193000
DTEND;TZID=UTC:20190410T210000
DTSTAMP:20260419T071241
CREATED:20170629T210059Z
LAST-MODIFIED:20170629T210059Z
UID:26354-1554924600-1554930000@www.thearcenter.com
SUMMARY:All Church Time
DESCRIPTION:Each member or youth of the congregation would be encouraged to invite one or more guests. A specific sport would be identified and featured.
URL:https://www.thearcenter.com/calendar/all-church-times-2019-04-10/
LOCATION:The ARC\, 902 Danville Blvd\, Alamo\, CA\, 94507\, United States
CATEGORIES:Adult,Youth
ATTACH;FMTTYPE=image/jpeg:https://www.thearcenter.com/wp-content/uploads/2017/03/bigstock-Basketball-court-Sport-arena-108580907.jpg
END:VEVENT
BEGIN:VEVENT
DTSTART;TZID=UTC:20190407T150000
DTEND;TZID=UTC:20190407T170000
DTSTAMP:20260419T071241
CREATED:20170629T210059Z
LAST-MODIFIED:20181113T004751Z
UID:26304-1554649200-1554656400@www.thearcenter.com
SUMMARY:All Church Time
DESCRIPTION:Each member or youth of the congregation would be encouraged to invite one or more guests. A specific sport would be identified and featured.
URL:https://www.thearcenter.com/calendar/all-church-times-2019-04-07/
LOCATION:The ARC\, 902 Danville Blvd\, Alamo\, CA\, 94507\, United States
CATEGORIES:Adult,Youth
ATTACH;FMTTYPE=image/jpeg:https://www.thearcenter.com/wp-content/uploads/2017/03/bigstock-Basketball-court-Sport-arena-108580907.jpg
END:VEVENT
BEGIN:VEVENT
DTSTART;TZID=UTC:20190403T193000
DTEND;TZID=UTC:20190403T210000
DTSTAMP:20260419T071241
CREATED:20170629T210059Z
LAST-MODIFIED:20170629T210059Z
UID:26353-1554319800-1554325200@www.thearcenter.com
SUMMARY:All Church Time
DESCRIPTION:Each member or youth of the congregation would be encouraged to invite one or more guests. A specific sport would be identified and featured.
URL:https://www.thearcenter.com/calendar/all-church-times-2019-04-03/
LOCATION:The ARC\, 902 Danville Blvd\, Alamo\, CA\, 94507\, United States
CATEGORIES:Adult,Youth
ATTACH;FMTTYPE=image/jpeg:https://www.thearcenter.com/wp-content/uploads/2017/03/bigstock-Basketball-court-Sport-arena-108580907.jpg
END:VEVENT
BEGIN:VEVENT
DTSTART;TZID=UTC:20190331T150000
DTEND;TZID=UTC:20190331T170000
DTSTAMP:20260419T071241
CREATED:20170629T210059Z
LAST-MODIFIED:20181113T004750Z
UID:26303-1554044400-1554051600@www.thearcenter.com
SUMMARY:All Church Time
DESCRIPTION:Each member or youth of the congregation would be encouraged to invite one or more guests. A specific sport would be identified and featured.
URL:https://www.thearcenter.com/calendar/all-church-times-2019-03-31/
LOCATION:The ARC\, 902 Danville Blvd\, Alamo\, CA\, 94507\, United States
CATEGORIES:Adult,Youth
ATTACH;FMTTYPE=image/jpeg:https://www.thearcenter.com/wp-content/uploads/2017/03/bigstock-Basketball-court-Sport-arena-108580907.jpg
END:VEVENT
END:VCALENDAR